BEGIN:VCALENDAR
VERSION:2.0
PRODID:-//Optimist Club of Alma - ECPv6.13.2.1//NONSGML v1.0//EN
CALSCALE:GREGORIAN
METHOD:PUBLISH
X-WR-CALNAME:Optimist Club of Alma
X-ORIGINAL-URL:https://almaoptimist.club
X-WR-CALDESC:Events for Optimist Club of Alma
REFRESH-INTERVAL;VALUE=DURATION:PT1H
X-Robots-Tag:noindex
X-PUBLISHED-TTL:PT1H
BEGIN:VTIMEZONE
TZID:America/Toronto
BEGIN:DAYLIGHT
TZOFFSETFROM:-0500
TZOFFSETTO:-0400
TZNAME:EDT
DTSTART:20260308T070000
END:DAYLIGHT
BEGIN:STANDARD
TZOFFSETFROM:-0400
TZOFFSETTO:-0500
TZNAME:EST
DTSTART:20261101T060000
END:STANDARD
END:VTIMEZONE
BEGIN:VEVENT
DTSTART;TZID=America/Toronto:20260303T190000
DTEND;TZID=America/Toronto:20260303T210000
DTSTAMP:20260424T141830
CREATED:20260106T150836Z
LAST-MODIFIED:20260106T150837Z
UID:375-1772564400-1772571600@almaoptimist.club
SUMMARY:ALMA OPTIMIST CLUB MEETING
DESCRIPTION:Monthly business meeting with Alma Optimist Club. Looking to volunteer with us\, come on out and see what we are all about.
URL:https://almaoptimist.club/event/alma-optimist-club-meeting-13/
END:VEVENT
BEGIN:VEVENT
DTSTART;TZID=America/Toronto:20260314T200000
DTEND;TZID=America/Toronto:20260314T235900
DTSTAMP:20260424T141830
CREATED:20260106T144750Z
LAST-MODIFIED:20260108T024829Z
UID:359-1773518400-1773532740@almaoptimist.club
SUMMARY:ALMA OPTIMIST COUNTRY DANCE
DESCRIPTION:Alma Optimist Country Dance – Band will be The Fletchers \n\n\n\n$15 per person
URL:https://almaoptimist.club/event/alma-optimist-country-dance-7/
END:VEVENT
BEGIN:VEVENT
DTSTART;TZID=America/Toronto:20260327T170000
DTEND;TZID=America/Toronto:20260327T190000
DTSTAMP:20260424T141830
CREATED:20260106T144134Z
LAST-MODIFIED:20260106T144135Z
UID:349-1774630800-1774638000@almaoptimist.club
SUMMARY:ALMA OPTIMIST BEEF BBQ
DESCRIPTION:at the Alma Community Center 51 Simpson St E\, Alma \n\n\n\nFamous Alma Optimist Beef BBQ. $25 for Adults $10 for children 5 to 12 Free under 5
URL:https://almaoptimist.club/event/alma-optimist-beef-bbq-7/
END:VEVENT
END:VCALENDAR