BEGIN:VCALENDAR
VERSION:2.0
PRODID:-//Optimist Club of Alma - ECPv6.13.2.1//NONSGML v1.0//EN
CALSCALE:GREGORIAN
METHOD:PUBLISH
X-WR-CALNAME:Optimist Club of Alma
X-ORIGINAL-URL:https://almaoptimist.club
X-WR-CALDESC:Events for Optimist Club of Alma
REFRESH-INTERVAL;VALUE=DURATION:PT1H
X-Robots-Tag:noindex
X-PUBLISHED-TTL:PT1H
BEGIN:VTIMEZONE
TZID:America/Toronto
BEGIN:DAYLIGHT
TZOFFSETFROM:-0500
TZOFFSETTO:-0400
TZNAME:EDT
DTSTART:20210314T070000
END:DAYLIGHT
BEGIN:STANDARD
TZOFFSETFROM:-0400
TZOFFSETTO:-0500
TZNAME:EST
DTSTART:20211107T060000
END:STANDARD
BEGIN:DAYLIGHT
TZOFFSETFROM:-0500
TZOFFSETTO:-0400
TZNAME:EDT
DTSTART:20220313T070000
END:DAYLIGHT
BEGIN:STANDARD
TZOFFSETFROM:-0400
TZOFFSETTO:-0500
TZNAME:EST
DTSTART:20221106T060000
END:STANDARD
BEGIN:DAYLIGHT
TZOFFSETFROM:-0500
TZOFFSETTO:-0400
TZNAME:EDT
DTSTART:20230312T070000
END:DAYLIGHT
BEGIN:STANDARD
TZOFFSETFROM:-0400
TZOFFSETTO:-0500
TZNAME:EST
DTSTART:20231105T060000
END:STANDARD
BEGIN:DAYLIGHT
TZOFFSETFROM:-0500
TZOFFSETTO:-0400
TZNAME:EDT
DTSTART:20240310T070000
END:DAYLIGHT
BEGIN:STANDARD
TZOFFSETFROM:-0400
TZOFFSETTO:-0500
TZNAME:EST
DTSTART:20241103T060000
END:STANDARD
BEGIN:DAYLIGHT
TZOFFSETFROM:-0500
TZOFFSETTO:-0400
TZNAME:EDT
DTSTART:20250309T070000
END:DAYLIGHT
BEGIN:STANDARD
TZOFFSETFROM:-0400
TZOFFSETTO:-0500
TZNAME:EST
DTSTART:20251102T060000
END:STANDARD
BEGIN:DAYLIGHT
TZOFFSETFROM:-0500
TZOFFSETTO:-0400
TZNAME:EDT
DTSTART:20260308T070000
END:DAYLIGHT
BEGIN:STANDARD
TZOFFSETFROM:-0400
TZOFFSETTO:-0500
TZNAME:EST
DTSTART:20261101T060000
END:STANDARD
END:VTIMEZONE
BEGIN:VEVENT
DTSTART;TZID=America/Toronto:20260130T120000
DTEND;TZID=America/Toronto:20260130T140000
DTSTAMP:20260425T064754
CREATED:20251217T221542Z
LAST-MODIFIED:20251217T221542Z
UID:341-1769774400-1769781600@almaoptimist.club
SUMMARY:ALMA OPTIMIST BEEF BBQ
DESCRIPTION:Famous Alma Optimist Beef BBQ. \n\n\n\nFree under 5
URL:https://almaoptimist.club/event/alma-optimist-beef-bbq/
LOCATION:Alma Community Hall\, 51 Simpson St E\, Alma\, ON\, N0B 1A0\, Canada
END:VEVENT
BEGIN:VEVENT
DTSTART;TZID=America/Toronto:20260106T190000
DTEND;TZID=America/Toronto:20260106T210000
DTSTAMP:20260425T064754
CREATED:20260106T150619Z
LAST-MODIFIED:20260106T150620Z
UID:371-1767726000-1767733200@almaoptimist.club
SUMMARY:ALMA OPTIMIST CLUB MEETING
DESCRIPTION:Monthly business meeting with Alma Optimist Club. Looking to volunteer with us\, come on out and see what we are all about.
URL:https://almaoptimist.club/event/alma-optimist-club-meeting-11/
END:VEVENT
BEGIN:VEVENT
DTSTART;TZID=America/Toronto:20251128T170000
DTEND;TZID=America/Toronto:20251128T190000
DTSTAMP:20260425T064754
CREATED:20241107T191430Z
LAST-MODIFIED:20241107T191858Z
UID:305-1764349200-1764356400@almaoptimist.club
SUMMARY:ALMA OPTIMST BEEF BBQ
DESCRIPTION:at the Alma Community Center 51 Simpson St E\, Alma  \n\n\n\nFamous Alma Optimist Beef BBQ. $20 for Adults $10 for children 5 to 12 Free under 5
URL:https://almaoptimist.club/event/alma-optimst-beef-dinner/
END:VEVENT
BEGIN:VEVENT
DTSTART;TZID=America/Toronto:20251108T200000
DTEND;TZID=America/Toronto:20251108T235900
DTSTAMP:20260425T064754
CREATED:20250308T130036Z
LAST-MODIFIED:20251105T181016Z
UID:328-1762632000-1762646340@almaoptimist.club
SUMMARY:ALMA OPTIMIST COUNTRY DANCE
DESCRIPTION:Alma Optimist Country Dance – Band will be Country Versitiles \n\n\n\n$15 per person
URL:https://almaoptimist.club/event/alma-optimist-country-dance-5/
END:VEVENT
BEGIN:VEVENT
DTSTART;TZID=America/Toronto:20251011T200000
DTEND;TZID=America/Toronto:20251011T235900
DTSTAMP:20260425T064754
CREATED:20250207T143354Z
LAST-MODIFIED:20250207T143354Z
UID:325-1760212800-1760227140@almaoptimist.club
SUMMARY:ALMA OPTIMST COUNTRY DANCE
DESCRIPTION:Alma Optimist Country Dance – Band Announcement Coming Soon \n\n\n\n$15 per person
URL:https://almaoptimist.club/event/alma-optimst-country-dance/
END:VEVENT
BEGIN:VEVENT
DTSTART;TZID=America/Toronto:20250926T170000
DTEND;TZID=America/Toronto:20250926T190000
DTSTAMP:20260425T064754
CREATED:20241107T191238Z
LAST-MODIFIED:20241107T191547Z
UID:301-1758906000-1758913200@almaoptimist.club
SUMMARY:ALMA OPTIMIST BEEF BBQ
DESCRIPTION:at the Alma Community Center 51 Simpson St E\, Alma  \n\n\n\nFamous Alma Optimist Beef BBQ. $20 for Adults $10 for children 5 to 12 Free under 5
URL:https://almaoptimist.club/event/301/
END:VEVENT
BEGIN:VEVENT
DTSTART;TZID=America/Toronto:20250906T200000
DTEND;TZID=America/Toronto:20250906T235900
DTSTAMP:20260425T064754
CREATED:20250207T143259Z
LAST-MODIFIED:20250207T143300Z
UID:323-1757188800-1757203140@almaoptimist.club
SUMMARY:ALMA OPTIMIST COUNTRY DANCE
DESCRIPTION:Alma Optimist Country Dance – Band Announcement Coming Soon \n\n\n\n$15 per person
URL:https://almaoptimist.club/event/alma-optimist-country-dance-4/
END:VEVENT
BEGIN:VEVENT
DTSTART;TZID=America/Toronto:20250725T170000
DTEND;TZID=America/Toronto:20250725T190000
DTSTAMP:20260425T064754
CREATED:20241107T191200Z
LAST-MODIFIED:20241107T191531Z
UID:299-1753462800-1753470000@almaoptimist.club
SUMMARY:ALMA OPTIMIST BEEF BBQ
DESCRIPTION:at the Alma Community Center 51 Simpson St E\, Alma  \n\n\n\nFamous Alma Optimist Beef BBQ. $20 for Adults $10 for children 5 to 12 Free under 5
URL:https://almaoptimist.club/event/299/
END:VEVENT
BEGIN:VEVENT
DTSTART;TZID=America/Toronto:20250530T170000
DTEND;TZID=America/Toronto:20250530T190000
DTSTAMP:20260425T064754
CREATED:20241107T191123Z
LAST-MODIFIED:20241107T191124Z
UID:297-1748624400-1748631600@almaoptimist.club
SUMMARY:ALMA OPTIMIST BEEF BBQ
DESCRIPTION:at the Alma Community Center 51 Simpson St E\, Alma  \n\n\n\nFamous Alma Optimist Beef BBQ. $20 for Adults $10 for children 5 to 12 Free under 5
URL:https://almaoptimist.club/event/alma-optimist-beef-bbq-6/
END:VEVENT
BEGIN:VEVENT
DTSTART;TZID=America/Toronto:20250510T200000
DTEND;TZID=America/Toronto:20250510T235900
DTSTAMP:20260425T064754
CREATED:20250207T143122Z
LAST-MODIFIED:20250207T143123Z
UID:321-1746907200-1746921540@almaoptimist.club
SUMMARY:ALMA COUNTRY DANCE
DESCRIPTION:Alma Optimist Country Dance – Dance to the Music of Country Versatiles \n\n\n\n$15 per person
URL:https://almaoptimist.club/event/alma-country-dance/
LOCATION:Alma Community Hall\, 51 Simpson St E\, Alma\, ON\, N0B 1A0\, Canada
END:VEVENT
BEGIN:VEVENT
DTSTART;TZID=America/Toronto:20250412T200000
DTEND;TZID=America/Toronto:20250413T000100
DTSTAMP:20260425T064754
CREATED:20250207T143003Z
LAST-MODIFIED:20250207T143004Z
UID:319-1744488000-1744502460@almaoptimist.club
SUMMARY:ALMA OPTIMIST COUNTRY DANCE
DESCRIPTION:Alma Optimist Country Dance – Dance to the Music of Diane and the Cavaliers \n\n\n\n$15 per person
URL:https://almaoptimist.club/event/alma-optimist-country-dance-3/
LOCATION:Alma Community Hall\, 51 Simpson St E\, Alma\, ON\, N0B 1A0\, Canada
END:VEVENT
BEGIN:VEVENT
DTSTART;TZID=America/Toronto:20250328T170000
DTEND;TZID=America/Toronto:20250328T190000
DTSTAMP:20260425T064754
CREATED:20241107T190947Z
LAST-MODIFIED:20241107T190948Z
UID:295-1743181200-1743188400@almaoptimist.club
SUMMARY:ALMA OPTIMIST BEEF BBQ
DESCRIPTION:at the Alma Community Center 51 Simpson St E\, Alma  \n\n\n\nFamous Alma Optimist Beef BBQ. $20 for Adults $10 for children 5 to 12 Free under 5
URL:https://almaoptimist.club/event/alma-optimist-beef-bbq-5/
END:VEVENT
BEGIN:VEVENT
DTSTART;TZID=America/Toronto:20250308T200000
DTEND;TZID=America/Toronto:20250308T235900
DTSTAMP:20260425T064754
CREATED:20250309T002444Z
LAST-MODIFIED:20250309T002444Z
UID:331-1741464000-1741478340@almaoptimist.club
SUMMARY:ALMA OPTIMIST COUNTRY DANCE
DESCRIPTION:Alma Optimist Country Dance \n\n\n\n$15 per person
URL:https://almaoptimist.club/event/alma-optimist-country-dance-6/
END:VEVENT
BEGIN:VEVENT
DTSTART;TZID=America/Toronto:20250308T000000
DTEND;TZID=America/Toronto:20250308T000100
DTSTAMP:20260425T064754
CREATED:20250207T142832Z
LAST-MODIFIED:20250207T142832Z
UID:317-1741392000-1741392060@almaoptimist.club
SUMMARY:ALMA OPTIMIST COUNTRY DANCE
DESCRIPTION:Alma Optimist Country Dance – Dance to the Music of The Fletchers \n\n\n\n$15 per person
URL:https://almaoptimist.club/event/alma-optimist-country-dance/
LOCATION:Alma Community Hall\, 51 Simpson St E\, Alma\, ON\, N0B 1A0\, Canada
END:VEVENT
BEGIN:VEVENT
DTSTART;TZID=America/Toronto:20250131T170000
DTEND;TZID=America/Toronto:20250131T190000
DTSTAMP:20260425T064754
CREATED:20241107T190512Z
LAST-MODIFIED:20241107T190512Z
UID:288-1738342800-1738350000@almaoptimist.club
SUMMARY:ALMA OPTIMIST BEEF BBQ
DESCRIPTION:at the Alma Community Center 51 Simpson St E\, Alma \n\n\n\nFamous Alma Optimist Beef BBQ. $20 for Adults $10 for children 5 to 12 Free under 5
URL:https://almaoptimist.club/event/alma-optimist-beef-bbq-3/
END:VEVENT
BEGIN:VEVENT
DTSTART;TZID=America/Toronto:20241129T170000
DTEND;TZID=America/Toronto:20241129T190000
DTSTAMP:20260425T064754
CREATED:20241107T190139Z
LAST-MODIFIED:20241107T190139Z
UID:291-1732899600-1732906800@almaoptimist.club
SUMMARY:ALMA OPTIMIST BEEF BBQ
DESCRIPTION:at the Alma Community Center 51 Simpson St E\, Alma \n\n\n\nFamous Alma Optimist Beef BBQ. $20 for Adults $10 for children 5 to 12 Free under 5
URL:https://almaoptimist.club/event/alma-optimist-beef-bbq-4/
END:VEVENT
BEGIN:VEVENT
DTSTART;TZID=America/Toronto:20231124T120000
DTEND;TZID=America/Toronto:20231124T140000
DTSTAMP:20260425T064754
CREATED:20230509T190129Z
LAST-MODIFIED:20230509T190129Z
UID:237-1700827200-1700834400@almaoptimist.club
SUMMARY:ALMA OPTIMIST BEEF BBQ
DESCRIPTION:Famous Alma Optimist Beef BBQ. \n\n\n\n$20 for Adults \n\n\n\n$10 for children 5 to 12 \n\n\n\nFree under 5
URL:https://almaoptimist.club/event/alma-optimist-beef-bbq-2/
LOCATION:Alma Community Hall\, 51 Simpson St E\, Alma\, ON\, N0B 1A0\, Canada
END:VEVENT
BEGIN:VEVENT
DTSTART;TZID=America/Toronto:20231111T150000
DTEND;TZID=America/Toronto:20231111T185900
DTSTAMP:20260425T064754
CREATED:20230509T190609Z
LAST-MODIFIED:20230509T190609Z
UID:245-1699714800-1699729140@almaoptimist.club
SUMMARY:ALMA OPTIMIST COUNTRY DANCE
DESCRIPTION:Alma Optimist Country Dance – Dance to the Music of “the Bill Beattie Band “TO BE DECIDED”  \n\n\n\n$15 per person
URL:https://almaoptimist.club/event/alma-optimist-country-dance-2/
END:VEVENT
BEGIN:VEVENT
DTSTART;TZID=America/Toronto:20220906T153000
DTEND;TZID=America/Toronto:20220906T170000
DTSTAMP:20260425T064754
CREATED:20211201T214722Z
LAST-MODIFIED:20211201T214723Z
UID:120-1662478200-1662483600@almaoptimist.club
SUMMARY:Alma Optimist Club Meeting
DESCRIPTION:
URL:https://almaoptimist.club/event/alma-optimist-club-meeting-10/
LOCATION:Alma Community Hall\, 51 Simpson St E\, Alma\, ON\, N0B 1A0\, Canada
END:VEVENT
BEGIN:VEVENT
DTSTART;TZID=America/Toronto:20220802T153000
DTEND;TZID=America/Toronto:20220802T170000
DTSTAMP:20260425T064754
CREATED:20211201T214715Z
LAST-MODIFIED:20211201T214716Z
UID:119-1659454200-1659459600@almaoptimist.club
SUMMARY:Alma Optimist Club Meeting
DESCRIPTION:
URL:https://almaoptimist.club/event/alma-optimist-club-meeting-9/
LOCATION:Alma Community Hall\, 51 Simpson St E\, Alma\, ON\, N0B 1A0\, Canada
END:VEVENT
BEGIN:VEVENT
DTSTART;TZID=America/Toronto:20220705T153000
DTEND;TZID=America/Toronto:20220705T170000
DTSTAMP:20260425T064754
CREATED:20211201T214619Z
LAST-MODIFIED:20211201T214620Z
UID:115-1657035000-1657040400@almaoptimist.club
SUMMARY:Alma Optimist Club Meeting
DESCRIPTION:
URL:https://almaoptimist.club/event/alma-optimist-club-meeting-8/
LOCATION:Alma Community Hall\, 51 Simpson St E\, Alma\, ON\, N0B 1A0\, Canada
END:VEVENT
BEGIN:VEVENT
DTSTART;TZID=America/Toronto:20220607T153000
DTEND;TZID=America/Toronto:20220607T170000
DTSTAMP:20260425T064754
CREATED:20211201T214604Z
LAST-MODIFIED:20211201T214605Z
UID:114-1654615800-1654621200@almaoptimist.club
SUMMARY:Alma Optimist Club Meeting
DESCRIPTION:
URL:https://almaoptimist.club/event/alma-optimist-club-meeting-7/
LOCATION:Alma Community Hall\, 51 Simpson St E\, Alma\, ON\, N0B 1A0\, Canada
END:VEVENT
BEGIN:VEVENT
DTSTART;TZID=America/Toronto:20220503T153000
DTEND;TZID=America/Toronto:20220503T170000
DTSTAMP:20260425T064754
CREATED:20211201T214555Z
LAST-MODIFIED:20211201T214557Z
UID:113-1651591800-1651597200@almaoptimist.club
SUMMARY:Alma Optimist Club Meeting
DESCRIPTION:
URL:https://almaoptimist.club/event/alma-optimist-club-meeting-6/
LOCATION:Alma Community Hall\, 51 Simpson St E\, Alma\, ON\, N0B 1A0\, Canada
END:VEVENT
BEGIN:VEVENT
DTSTART;TZID=America/Toronto:20220405T153000
DTEND;TZID=America/Toronto:20220405T170000
DTSTAMP:20260425T064754
CREATED:20211201T214514Z
LAST-MODIFIED:20211201T214515Z
UID:111-1649172600-1649178000@almaoptimist.club
SUMMARY:Alma Optimist Club Meeting
DESCRIPTION:
URL:https://almaoptimist.club/event/alma-optimist-club-meeting-5/
LOCATION:Alma Community Hall\, 51 Simpson St E\, Alma\, ON\, N0B 1A0\, Canada
END:VEVENT
BEGIN:VEVENT
DTSTART;TZID=America/Toronto:20220313T060000
DTEND;TZID=America/Toronto:20220313T110000
DTSTAMP:20260425T064754
CREATED:20211201T213925Z
LAST-MODIFIED:20211201T213926Z
UID:102-1647151200-1647169200@almaoptimist.club
SUMMARY:Alma Optimist Toy Show & Sale
DESCRIPTION:
URL:https://almaoptimist.club/event/alma-optimist-toy-show-sale/
LOCATION:Alma Community Hall\, 51 Simpson St E\, Alma\, ON\, N0B 1A0\, Canada
END:VEVENT
BEGIN:VEVENT
DTSTART;TZID=America/Toronto:20220301T143000
DTEND;TZID=America/Toronto:20220301T160000
DTSTAMP:20260425T064754
CREATED:20211201T214242Z
LAST-MODIFIED:20211201T214257Z
UID:108-1646145000-1646150400@almaoptimist.club
SUMMARY:Alma Optimist Club Meeting
DESCRIPTION:
URL:https://almaoptimist.club/event/alma-optimist-club-meeting-4/
LOCATION:Alma Community Hall\, 51 Simpson St E\, Alma\, ON\, N0B 1A0\, Canada
END:VEVENT
BEGIN:VEVENT
DTSTART;TZID=America/Toronto:20220201T143000
DTEND;TZID=America/Toronto:20220201T160000
DTSTAMP:20260425T064754
CREATED:20211201T214054Z
LAST-MODIFIED:20211201T214442Z
UID:106-1643725800-1643731200@almaoptimist.club
SUMMARY:Alma Optimist Club Meeting
DESCRIPTION:
URL:https://almaoptimist.club/event/alma-optimist-club-meeting-3/
LOCATION:Alma Community Hall\, 51 Simpson St E\, Alma\, ON\, N0B 1A0\, Canada
END:VEVENT
BEGIN:VEVENT
DTSTART;TZID=America/Toronto:20220104T143000
DTEND;TZID=America/Toronto:20220104T160000
DTSTAMP:20260425T064754
CREATED:20211201T213622Z
LAST-MODIFIED:20211201T214437Z
UID:96-1641306600-1641312000@almaoptimist.club
SUMMARY:Alma Optimist Club Meeting
DESCRIPTION:
URL:https://almaoptimist.club/event/alma-optimist-club-meeting-2/
LOCATION:Alma Community Hall\, 51 Simpson St E\, Alma\, ON\, N0B 1A0\, Canada
END:VEVENT
BEGIN:VEVENT
DTSTART;TZID=America/Toronto:20211219T090000
DTEND;TZID=America/Toronto:20211219T100000
DTSTAMP:20260425T064754
CREATED:20211201T213455Z
LAST-MODIFIED:20211201T215333Z
UID:95-1639904400-1639908000@almaoptimist.club
SUMMARY:Alma Optimist Santa Claus Parade
DESCRIPTION:
URL:https://almaoptimist.club/event/alma-optimist-sant-claus-parade/
END:VEVENT
BEGIN:VEVENT
DTSTART;TZID=America/Toronto:20211207T143000
DTEND;TZID=America/Toronto:20211207T160000
DTSTAMP:20260425T064754
CREATED:20211201T213055Z
LAST-MODIFIED:20211201T214346Z
UID:93-1638887400-1638892800@almaoptimist.club
SUMMARY:Alma Optimist Club Meeting
DESCRIPTION:
URL:https://almaoptimist.club/event/alma-optimist-club-meeting/
END:VEVENT
END:VCALENDAR