BEGIN:VCALENDAR
VERSION:2.0
PRODID:-//Optimist Club of Alma - ECPv6.13.2.1//NONSGML v1.0//EN
CALSCALE:GREGORIAN
METHOD:PUBLISH
X-WR-CALNAME:Optimist Club of Alma
X-ORIGINAL-URL:https://almaoptimist.club
X-WR-CALDESC:Events for Optimist Club of Alma
REFRESH-INTERVAL;VALUE=DURATION:PT1H
X-Robots-Tag:noindex
X-PUBLISHED-TTL:PT1H
BEGIN:VTIMEZONE
TZID:America/Toronto
BEGIN:DAYLIGHT
TZOFFSETFROM:-0500
TZOFFSETTO:-0400
TZNAME:EDT
DTSTART:20250309T070000
END:DAYLIGHT
BEGIN:STANDARD
TZOFFSETFROM:-0400
TZOFFSETTO:-0500
TZNAME:EST
DTSTART:20251102T060000
END:STANDARD
BEGIN:DAYLIGHT
TZOFFSETFROM:-0500
TZOFFSETTO:-0400
TZNAME:EDT
DTSTART:20260308T070000
END:DAYLIGHT
BEGIN:STANDARD
TZOFFSETFROM:-0400
TZOFFSETTO:-0500
TZNAME:EST
DTSTART:20261101T060000
END:STANDARD
END:VTIMEZONE
BEGIN:VEVENT
DTSTART;TZID=America/Toronto:20261103T190000
DTEND;TZID=America/Toronto:20261103T210000
DTSTAMP:20260425T061939
CREATED:20260106T151433Z
LAST-MODIFIED:20260106T151434Z
UID:387-1793732400-1793739600@almaoptimist.club
SUMMARY:ALMA OPTIMIST CLUB MEETING
DESCRIPTION:Monthly business meeting with Alma Optimist Club. Looking to volunteer with us\, come on out and see what we are all about.
URL:https://almaoptimist.club/event/alma-optimist-club-meeting-19/
END:VEVENT
BEGIN:VEVENT
DTSTART;TZID=America/Toronto:20261010T200000
DTEND;TZID=America/Toronto:20261010T235900
DTSTAMP:20260425T061939
CREATED:20260106T145408Z
LAST-MODIFIED:20260106T145409Z
UID:367-1791662400-1791676740@almaoptimist.club
SUMMARY:ALMA OPTIMIST COUNTRY DANCE
DESCRIPTION:Alma Optimist Country Dance – Band will be announced soon \n\n\n\n$15 per person
URL:https://almaoptimist.club/event/alma-optimist-country-dance-11/
END:VEVENT
BEGIN:VEVENT
DTSTART;TZID=America/Toronto:20261006T190000
DTEND;TZID=America/Toronto:20261006T210000
DTSTAMP:20260425T061939
CREATED:20260106T151339Z
LAST-MODIFIED:20260106T151339Z
UID:385-1791313200-1791320400@almaoptimist.club
SUMMARY:ALMA OPTIMIST CLUB MEETING
DESCRIPTION:Monthly business meeting with Alma Optimist Club. Looking to volunteer with us\, come on out and see what we are all about.
URL:https://almaoptimist.club/event/alma-optimist-club-meeting-18/
END:VEVENT
BEGIN:VEVENT
DTSTART;TZID=America/Toronto:20261006T190000
DTEND;TZID=America/Toronto:20261006T210000
DTSTAMP:20260425T061939
CREATED:20260106T151209Z
LAST-MODIFIED:20260106T151209Z
UID:383-1791313200-1791320400@almaoptimist.club
SUMMARY:ALMA OPTIMIST CLUB MEETING
DESCRIPTION:Monthly business meeting with Alma Optimist Club. Looking to volunteer with us\, come on out and see what we are all about.
URL:https://almaoptimist.club/event/alma-optimist-club-meeting-17/
END:VEVENT
BEGIN:VEVENT
DTSTART;TZID=America/Toronto:20260925T170000
DTEND;TZID=America/Toronto:20260925T190000
DTSTAMP:20260425T061939
CREATED:20260106T144518Z
LAST-MODIFIED:20260106T144519Z
UID:355-1790355600-1790362800@almaoptimist.club
SUMMARY:ALMA OPTIMIST BEEF BBQ
DESCRIPTION:at the Alma Community Center 51 Simpson St E\, Alma \n\n\n\nFamous Alma Optimist Beef BBQ. $25 for Adults $10 for children 5 to 12 Free under 5
URL:https://almaoptimist.club/event/alma-optimist-beef-bbq-10/
END:VEVENT
BEGIN:VEVENT
DTSTART;TZID=America/Toronto:20260912T200000
DTEND;TZID=America/Toronto:20260912T235900
DTSTAMP:20260425T061939
CREATED:20260106T145258Z
LAST-MODIFIED:20260106T145258Z
UID:365-1789243200-1789257540@almaoptimist.club
SUMMARY:ALMA OPTIMIST COUNTRY DANCE
DESCRIPTION:Alma Optimist Country Dance – Band will be announced soon \n\n\n\n$15 per person
URL:https://almaoptimist.club/event/alma-optimist-country-dance-10/
END:VEVENT
BEGIN:VEVENT
DTSTART;TZID=America/Toronto:20260731T170000
DTEND;TZID=America/Toronto:20260731T190000
DTSTAMP:20260425T061939
CREATED:20260106T144410Z
LAST-MODIFIED:20260106T144411Z
UID:353-1785517200-1785524400@almaoptimist.club
SUMMARY:ALMA OPTIMIST BEEF BBQ
DESCRIPTION:at the Alma Community Center 51 Simpson St E\, Alma \n\n\n\nFamous Alma Optimist Beef BBQ. $25 for Adults $10 for children 5 to 12 Free under 5
URL:https://almaoptimist.club/event/alma-optimist-beef-bbq-9/
END:VEVENT
BEGIN:VEVENT
DTSTART;TZID=America/Toronto:20260602T190000
DTEND;TZID=America/Toronto:20260602T210000
DTSTAMP:20260425T061939
CREATED:20260106T151118Z
LAST-MODIFIED:20260106T151118Z
UID:381-1780426800-1780434000@almaoptimist.club
SUMMARY:ALMA OPTIMIST CLUB MEETING
DESCRIPTION:Monthly business meeting with Alma Optimist Club. Looking to volunteer with us\, come on out and see what we are all about.
URL:https://almaoptimist.club/event/alma-optimist-club-meeting-16/
END:VEVENT
BEGIN:VEVENT
DTSTART;TZID=America/Toronto:20260529T170000
DTEND;TZID=America/Toronto:20260529T190000
DTSTAMP:20260425T061939
CREATED:20260106T144303Z
LAST-MODIFIED:20260106T144303Z
UID:351-1780074000-1780081200@almaoptimist.club
SUMMARY:ALMA OPTIMIST BEEF BBQ
DESCRIPTION:at the Alma Community Center 51 Simpson St E\, Alma \n\n\n\nFamous Alma Optimist Beef BBQ. $25 for Adults $10 for children 5 to 12 Free under 5
URL:https://almaoptimist.club/event/alma-optimist-beef-bbq-8/
END:VEVENT
BEGIN:VEVENT
DTSTART;TZID=America/Toronto:20260509T200000
DTEND;TZID=America/Toronto:20260509T235900
DTSTAMP:20260425T061939
CREATED:20260106T145102Z
LAST-MODIFIED:20260108T024944Z
UID:363-1778356800-1778371140@almaoptimist.club
SUMMARY:ALMA OPTIMIST COUNTRY DANCE
DESCRIPTION:Alma Optimist Country Dance – Band will be Diane and the Cavaliers \n\n\n\n$15 per person
URL:https://almaoptimist.club/event/alma-optimist-country-dance-9/
END:VEVENT
BEGIN:VEVENT
DTSTART;TZID=America/Toronto:20260505T190000
DTEND;TZID=America/Toronto:20260505T210000
DTSTAMP:20260425T061939
CREATED:20260106T151037Z
LAST-MODIFIED:20260106T151038Z
UID:379-1778007600-1778014800@almaoptimist.club
SUMMARY:ALMA OPTIMIST CLUB MEETING
DESCRIPTION:Monthly business meeting with Alma Optimist Club. Looking to volunteer with us\, come on out and see what we are all about.
URL:https://almaoptimist.club/event/alma-optimist-club-meeting-15/
END:VEVENT
BEGIN:VEVENT
DTSTART;TZID=America/Toronto:20260411T200000
DTEND;TZID=America/Toronto:20260411T235900
DTSTAMP:20260425T061939
CREATED:20260106T144916Z
LAST-MODIFIED:20260108T024908Z
UID:361-1775937600-1775951940@almaoptimist.club
SUMMARY:ALMA OPTIMIST COUNTRY DANCE
DESCRIPTION:Alma Optimist Country Dance – Band will be Country Versatiles \n\n\n\n$15 per person
URL:https://almaoptimist.club/event/alma-optimist-country-dance-8/
END:VEVENT
BEGIN:VEVENT
DTSTART;TZID=America/Toronto:20260407T190000
DTEND;TZID=America/Toronto:20260407T210000
DTSTAMP:20260425T061939
CREATED:20260106T150938Z
LAST-MODIFIED:20260106T150939Z
UID:377-1775588400-1775595600@almaoptimist.club
SUMMARY:ALMA OPTIMIST CLUB MEETING
DESCRIPTION:Monthly business meeting with Alma Optimist Club. Looking to volunteer with us\, come on out and see what we are all about.
URL:https://almaoptimist.club/event/alma-optimist-club-meeting-14/
END:VEVENT
BEGIN:VEVENT
DTSTART;TZID=America/Toronto:20260327T170000
DTEND;TZID=America/Toronto:20260327T190000
DTSTAMP:20260425T061939
CREATED:20260106T144134Z
LAST-MODIFIED:20260106T144135Z
UID:349-1774630800-1774638000@almaoptimist.club
SUMMARY:ALMA OPTIMIST BEEF BBQ
DESCRIPTION:at the Alma Community Center 51 Simpson St E\, Alma \n\n\n\nFamous Alma Optimist Beef BBQ. $25 for Adults $10 for children 5 to 12 Free under 5
URL:https://almaoptimist.club/event/alma-optimist-beef-bbq-7/
END:VEVENT
BEGIN:VEVENT
DTSTART;TZID=America/Toronto:20260314T200000
DTEND;TZID=America/Toronto:20260314T235900
DTSTAMP:20260425T061939
CREATED:20260106T144750Z
LAST-MODIFIED:20260108T024829Z
UID:359-1773518400-1773532740@almaoptimist.club
SUMMARY:ALMA OPTIMIST COUNTRY DANCE
DESCRIPTION:Alma Optimist Country Dance – Band will be The Fletchers \n\n\n\n$15 per person
URL:https://almaoptimist.club/event/alma-optimist-country-dance-7/
END:VEVENT
BEGIN:VEVENT
DTSTART;TZID=America/Toronto:20260303T190000
DTEND;TZID=America/Toronto:20260303T210000
DTSTAMP:20260425T061939
CREATED:20260106T150836Z
LAST-MODIFIED:20260106T150837Z
UID:375-1772564400-1772571600@almaoptimist.club
SUMMARY:ALMA OPTIMIST CLUB MEETING
DESCRIPTION:Monthly business meeting with Alma Optimist Club. Looking to volunteer with us\, come on out and see what we are all about.
URL:https://almaoptimist.club/event/alma-optimist-club-meeting-13/
END:VEVENT
BEGIN:VEVENT
DTSTART;TZID=America/Toronto:20260203T190000
DTEND;TZID=America/Toronto:20260203T210000
DTSTAMP:20260425T061939
CREATED:20260106T150735Z
LAST-MODIFIED:20260106T150736Z
UID:373-1770145200-1770152400@almaoptimist.club
SUMMARY:ALMA OPTIMIST CLUB MEETING
DESCRIPTION:Monthly business meeting with Alma Optimist Club. Looking to volunteer with us\, come on out and see what we are all about.
URL:https://almaoptimist.club/event/alma-optimist-club-meeting-12/
END:VEVENT
BEGIN:VEVENT
DTSTART;TZID=America/Toronto:20260130T120000
DTEND;TZID=America/Toronto:20260130T140000
DTSTAMP:20260425T061939
CREATED:20251217T221542Z
LAST-MODIFIED:20251217T221542Z
UID:341-1769774400-1769781600@almaoptimist.club
SUMMARY:ALMA OPTIMIST BEEF BBQ
DESCRIPTION:Famous Alma Optimist Beef BBQ. \n\n\n\nFree under 5
URL:https://almaoptimist.club/event/alma-optimist-beef-bbq/
LOCATION:Alma Community Hall\, 51 Simpson St E\, Alma\, ON\, N0B 1A0\, Canada
END:VEVENT
BEGIN:VEVENT
DTSTART;TZID=America/Toronto:20260106T190000
DTEND;TZID=America/Toronto:20260106T210000
DTSTAMP:20260425T061939
CREATED:20260106T150619Z
LAST-MODIFIED:20260106T150620Z
UID:371-1767726000-1767733200@almaoptimist.club
SUMMARY:ALMA OPTIMIST CLUB MEETING
DESCRIPTION:Monthly business meeting with Alma Optimist Club. Looking to volunteer with us\, come on out and see what we are all about.
URL:https://almaoptimist.club/event/alma-optimist-club-meeting-11/
END:VEVENT
BEGIN:VEVENT
DTSTART;TZID=America/Toronto:20251128T170000
DTEND;TZID=America/Toronto:20251128T190000
DTSTAMP:20260425T061939
CREATED:20241107T191430Z
LAST-MODIFIED:20241107T191858Z
UID:305-1764349200-1764356400@almaoptimist.club
SUMMARY:ALMA OPTIMST BEEF BBQ
DESCRIPTION:at the Alma Community Center 51 Simpson St E\, Alma  \n\n\n\nFamous Alma Optimist Beef BBQ. $20 for Adults $10 for children 5 to 12 Free under 5
URL:https://almaoptimist.club/event/alma-optimst-beef-dinner/
END:VEVENT
BEGIN:VEVENT
DTSTART;TZID=America/Toronto:20251108T200000
DTEND;TZID=America/Toronto:20251108T235900
DTSTAMP:20260425T061939
CREATED:20250308T130036Z
LAST-MODIFIED:20251105T181016Z
UID:328-1762632000-1762646340@almaoptimist.club
SUMMARY:ALMA OPTIMIST COUNTRY DANCE
DESCRIPTION:Alma Optimist Country Dance – Band will be Country Versitiles \n\n\n\n$15 per person
URL:https://almaoptimist.club/event/alma-optimist-country-dance-5/
END:VEVENT
BEGIN:VEVENT
DTSTART;TZID=America/Toronto:20251011T200000
DTEND;TZID=America/Toronto:20251011T235900
DTSTAMP:20260425T061939
CREATED:20250207T143354Z
LAST-MODIFIED:20250207T143354Z
UID:325-1760212800-1760227140@almaoptimist.club
SUMMARY:ALMA OPTIMST COUNTRY DANCE
DESCRIPTION:Alma Optimist Country Dance – Band Announcement Coming Soon \n\n\n\n$15 per person
URL:https://almaoptimist.club/event/alma-optimst-country-dance/
END:VEVENT
BEGIN:VEVENT
DTSTART;TZID=America/Toronto:20250926T170000
DTEND;TZID=America/Toronto:20250926T190000
DTSTAMP:20260425T061939
CREATED:20241107T191238Z
LAST-MODIFIED:20241107T191547Z
UID:301-1758906000-1758913200@almaoptimist.club
SUMMARY:ALMA OPTIMIST BEEF BBQ
DESCRIPTION:at the Alma Community Center 51 Simpson St E\, Alma  \n\n\n\nFamous Alma Optimist Beef BBQ. $20 for Adults $10 for children 5 to 12 Free under 5
URL:https://almaoptimist.club/event/301/
END:VEVENT
BEGIN:VEVENT
DTSTART;TZID=America/Toronto:20250906T200000
DTEND;TZID=America/Toronto:20250906T235900
DTSTAMP:20260425T061939
CREATED:20250207T143259Z
LAST-MODIFIED:20250207T143300Z
UID:323-1757188800-1757203140@almaoptimist.club
SUMMARY:ALMA OPTIMIST COUNTRY DANCE
DESCRIPTION:Alma Optimist Country Dance – Band Announcement Coming Soon \n\n\n\n$15 per person
URL:https://almaoptimist.club/event/alma-optimist-country-dance-4/
END:VEVENT
BEGIN:VEVENT
DTSTART;TZID=America/Toronto:20250725T170000
DTEND;TZID=America/Toronto:20250725T190000
DTSTAMP:20260425T061939
CREATED:20241107T191200Z
LAST-MODIFIED:20241107T191531Z
UID:299-1753462800-1753470000@almaoptimist.club
SUMMARY:ALMA OPTIMIST BEEF BBQ
DESCRIPTION:at the Alma Community Center 51 Simpson St E\, Alma  \n\n\n\nFamous Alma Optimist Beef BBQ. $20 for Adults $10 for children 5 to 12 Free under 5
URL:https://almaoptimist.club/event/299/
END:VEVENT
BEGIN:VEVENT
DTSTART;TZID=America/Toronto:20250530T170000
DTEND;TZID=America/Toronto:20250530T190000
DTSTAMP:20260425T061939
CREATED:20241107T191123Z
LAST-MODIFIED:20241107T191124Z
UID:297-1748624400-1748631600@almaoptimist.club
SUMMARY:ALMA OPTIMIST BEEF BBQ
DESCRIPTION:at the Alma Community Center 51 Simpson St E\, Alma  \n\n\n\nFamous Alma Optimist Beef BBQ. $20 for Adults $10 for children 5 to 12 Free under 5
URL:https://almaoptimist.club/event/alma-optimist-beef-bbq-6/
END:VEVENT
BEGIN:VEVENT
DTSTART;TZID=America/Toronto:20250510T200000
DTEND;TZID=America/Toronto:20250510T235900
DTSTAMP:20260425T061939
CREATED:20250207T143122Z
LAST-MODIFIED:20250207T143123Z
UID:321-1746907200-1746921540@almaoptimist.club
SUMMARY:ALMA COUNTRY DANCE
DESCRIPTION:Alma Optimist Country Dance – Dance to the Music of Country Versatiles \n\n\n\n$15 per person
URL:https://almaoptimist.club/event/alma-country-dance/
LOCATION:Alma Community Hall\, 51 Simpson St E\, Alma\, ON\, N0B 1A0\, Canada
END:VEVENT
BEGIN:VEVENT
DTSTART;TZID=America/Toronto:20250412T200000
DTEND;TZID=America/Toronto:20250413T000100
DTSTAMP:20260425T061939
CREATED:20250207T143003Z
LAST-MODIFIED:20250207T143004Z
UID:319-1744488000-1744502460@almaoptimist.club
SUMMARY:ALMA OPTIMIST COUNTRY DANCE
DESCRIPTION:Alma Optimist Country Dance – Dance to the Music of Diane and the Cavaliers \n\n\n\n$15 per person
URL:https://almaoptimist.club/event/alma-optimist-country-dance-3/
LOCATION:Alma Community Hall\, 51 Simpson St E\, Alma\, ON\, N0B 1A0\, Canada
END:VEVENT
BEGIN:VEVENT
DTSTART;TZID=America/Toronto:20250328T170000
DTEND;TZID=America/Toronto:20250328T190000
DTSTAMP:20260425T061939
CREATED:20241107T190947Z
LAST-MODIFIED:20241107T190948Z
UID:295-1743181200-1743188400@almaoptimist.club
SUMMARY:ALMA OPTIMIST BEEF BBQ
DESCRIPTION:at the Alma Community Center 51 Simpson St E\, Alma  \n\n\n\nFamous Alma Optimist Beef BBQ. $20 for Adults $10 for children 5 to 12 Free under 5
URL:https://almaoptimist.club/event/alma-optimist-beef-bbq-5/
END:VEVENT
BEGIN:VEVENT
DTSTART;TZID=America/Toronto:20250308T200000
DTEND;TZID=America/Toronto:20250308T235900
DTSTAMP:20260425T061939
CREATED:20250309T002444Z
LAST-MODIFIED:20250309T002444Z
UID:331-1741464000-1741478340@almaoptimist.club
SUMMARY:ALMA OPTIMIST COUNTRY DANCE
DESCRIPTION:Alma Optimist Country Dance \n\n\n\n$15 per person
URL:https://almaoptimist.club/event/alma-optimist-country-dance-6/
END:VEVENT
END:VCALENDAR