BEGIN:VCALENDAR
VERSION:2.0
PRODID:-//Optimist Club of Alma - ECPv6.13.2.1//NONSGML v1.0//EN
CALSCALE:GREGORIAN
METHOD:PUBLISH
X-WR-CALNAME:Optimist Club of Alma
X-ORIGINAL-URL:https://almaoptimist.club
X-WR-CALDESC:Events for Optimist Club of Alma
REFRESH-INTERVAL;VALUE=DURATION:PT1H
X-Robots-Tag:noindex
X-PUBLISHED-TTL:PT1H
BEGIN:VTIMEZONE
TZID:America/Toronto
BEGIN:DAYLIGHT
TZOFFSETFROM:-0500
TZOFFSETTO:-0400
TZNAME:EDT
DTSTART:20260308T070000
END:DAYLIGHT
BEGIN:STANDARD
TZOFFSETFROM:-0400
TZOFFSETTO:-0500
TZNAME:EST
DTSTART:20261101T060000
END:STANDARD
END:VTIMEZONE
BEGIN:VEVENT
DTSTART;TZID=America/Toronto:20260130T120000
DTEND;TZID=America/Toronto:20260130T140000
DTSTAMP:20260424T172823
CREATED:20251217T221542Z
LAST-MODIFIED:20251217T221542Z
UID:341-1769774400-1769781600@almaoptimist.club
SUMMARY:ALMA OPTIMIST BEEF BBQ
DESCRIPTION:Famous Alma Optimist Beef BBQ. \n\n\n\nFree under 5
URL:https://almaoptimist.club/event/alma-optimist-beef-bbq/
LOCATION:Alma Community Hall\, 51 Simpson St E\, Alma\, ON\, N0B 1A0\, Canada
END:VEVENT
END:VCALENDAR